BEGIN:VCALENDAR
VERSION:2.0
PRODID:DPCALENDAR
CALSCALE:GREGORIAN
BEGIN:VTIMEZONE
TZID:Europe/Helsinki
X-MICROSOFT-CDO-TZID:59
BEGIN:STANDARD
DTSTART:20251026T010000
TZOFFSETFROM:+0300
TZOFFSETTO:+0200
TZNAME:EET
END:STANDARD
BEGIN:STANDARD
DTSTART:20261025T010000
TZOFFSETFROM:+0300
TZOFFSETTO:+0200
TZNAME:EET
END:STANDARD
BEGIN:DAYLIGHT
DTSTART:20260329T010000
TZOFFSETFROM:+0200
TZOFFSETTO:+0300
TZNAME:EEST
END:DAYLIGHT
END:VTIMEZONE
X-WR-TIMEZONE:Europe/Helsinki
BEGIN:VEVENT
DTSTART;TZID=Europe/Helsinki:20240902T120000
DTEND;TZID=Europe/Helsinki:20240902T130000
UID:E865FEED-15D8-427A-8511-58876CAA776D
SUMMARY:Samkommunstyrelsen
CREATED:20240827T092129Z
DTSTAMP:20240827T092129Z
URL:https://moln.sofuk.fi/moeteskalender/samkommunstyrelsen
LAST-MODIFIED:20240827T094545Z
SEQUENCE:1456
X-ACCESS:1
X-HITS:6
X-COLOR:ff0303
X-SHOW-END-TIME:0
END:VEVENT
BEGIN:VEVENT
DTSTART;TZID=Europe/Helsinki:20240910T120000
DTEND;TZID=Europe/Helsinki:20240910T130000
UID:557F15B3-4FAE-482C-9A42-44B793995CFF
SUMMARY:Kultursektionen
CREATED:20240827T092200Z
DTSTAMP:20240827T092200Z
URL:https://moln.sofuk.fi/moeteskalender/kultursektionen
LAST-MODIFIED:20240827T094605Z
SEQUENCE:1445
X-ACCESS:1
X-HITS:7
X-COLOR:017d62
X-SHOW-END-TIME:0
END:VEVENT
BEGIN:VEVENT
DTSTART;TZID=Europe/Helsinki:20240912T120000
DTEND;TZID=Europe/Helsinki:20240912T130000
UID:A28F5D13-B022-4F33-BDB6-9E69068C1F48
SUMMARY:Revisionsnämden
CREATED:20240827T092230Z
DTSTAMP:20240827T092230Z
URL:https://moln.sofuk.fi/moeteskalender/revisionsnaemden
LAST-MODIFIED:20240827T092230Z
SEQUENCE:0
X-ACCESS:1
X-HITS:7
X-COLOR:3366cc
X-SHOW-END-TIME:0
END:VEVENT
BEGIN:VEVENT
DTSTART;TZID=Europe/Helsinki:20240930T120000
DTEND;TZID=Europe/Helsinki:20240930T130000
UID:90637194-ED38-41DD-A260-DADCC072256A
SUMMARY:Samkommunstyrelsen
CREATED:20240827T092302Z
DTSTAMP:20240827T092302Z
URL:https://moln.sofuk.fi/moeteskalender/samkommunstyrelsen-2
LAST-MODIFIED:20240827T092302Z
SEQUENCE:0
X-ACCESS:1
X-HITS:5
X-COLOR:3366cc
X-SHOW-END-TIME:0
END:VEVENT
BEGIN:VEVENT
DTSTART;TZID=Europe/Helsinki:20241022T120000
DTEND;TZID=Europe/Helsinki:20241022T130000
UID:244BCED2-A106-4428-900B-6C0ACED1EC8D
SUMMARY:Kultursektionen
CREATED:20240827T094427Z
DTSTAMP:20240827T094427Z
URL:https://moln.sofuk.fi/moeteskalender/kultursektionen-2
LAST-MODIFIED:20240827T094614Z
SEQUENCE:107
X-ACCESS:1
X-HITS:7
X-COLOR:017d62
X-SHOW-END-TIME:0
END:VEVENT
BEGIN:VEVENT
DTSTART;VALUE=DATE:20250829
DTEND;VALUE=DATE:20250830
UID:82AB5632-C85D-4ECB-A0D4-95CADA1993E0
SUMMARY:Samkommunstyrelsen sammanträder
CREATED:20250814T122045Z
DTSTAMP:20250814T122045Z
URL:https://moln.sofuk.fi/moeteskalender/samkommunstyrelsen-sammantraeder
LAST-MODIFIED:20250814T122045Z
SEQUENCE:0
X-ACCESS:1
X-HITS:6
X-COLOR:3366cc
X-SHOW-END-TIME:0
END:VEVENT
BEGIN:VEVENT
DTSTART;VALUE=DATE:20250923
DTEND;VALUE=DATE:20250924
UID:986949D0-F9E4-4290-B73E-B3EDF439CA53
SUMMARY:Kultursektionen sammanträder
CREATED:20250814T122116Z
DTSTAMP:20250814T122116Z
URL:https://moln.sofuk.fi/moeteskalender/kultursektionen-sammantraeder
LAST-MODIFIED:20250814T122116Z
SEQUENCE:0
X-ACCESS:1
X-HITS:5
X-COLOR:3366cc
X-SHOW-END-TIME:0
END:VEVENT
BEGIN:VEVENT
DTSTART;VALUE=DATE:20250929
DTEND;VALUE=DATE:20250930
UID:026A36DE-6A1B-472A-A270-60D69636A4F8
SUMMARY:Samkommunstyrelsen
CREATED:20250929T095754Z
DTSTAMP:20250929T095754Z
URL:https://moln.sofuk.fi/moeteskalender/samkommunstyrelsen-3
DESCRIPTION:        
X-ALT-DESC;FMTTYPE=text/html:        
LAST-MODIFIED:20250929T095758Z
SEQUENCE:4
X-ACCESS:1
X-HITS:8
X-COLOR:3366cc
X-SHOW-END-TIME:0
END:VEVENT
BEGIN:VEVENT
DTSTART;VALUE=DATE:20251021
DTEND;VALUE=DATE:20251022
UID:80B29BDE-1285-41C4-A435-702042389239
SUMMARY:Kultursektionen
CREATED:20250929T095849Z
DTSTAMP:20250929T095849Z
URL:https://moln.sofuk.fi/moeteskalender/kultursektionen-3
DESCRIPTION:    
X-ALT-DESC;FMTTYPE=text/html:    
LAST-MODIFIED:20250929T095849Z
SEQUENCE:0
X-ACCESS:1
X-HITS:6
X-COLOR:3366cc
X-SHOW-END-TIME:0
END:VEVENT
BEGIN:VEVENT
DTSTART;VALUE=DATE:20251027
DTEND;VALUE=DATE:20251028
UID:B5CDCB60-7844-40D8-98C5-7FB93F9ABD08
SUMMARY:Samkommunstyrelsen
CREATED:20250929T095931Z
DTSTAMP:20250929T095931Z
URL:https://moln.sofuk.fi/moeteskalender/samkommunstyrelsen-4
DESCRIPTION:    
X-ALT-DESC;FMTTYPE=text/html:    
LAST-MODIFIED:20250929T095931Z
SEQUENCE:0
X-ACCESS:1
X-HITS:5
X-COLOR:3366cc
X-SHOW-END-TIME:0
END:VEVENT
BEGIN:VEVENT
DTSTART;VALUE=DATE:20260126
DTEND;VALUE=DATE:20260127
UID:0FA28E1C-F9DD-4F6B-97AC-BA17325CAA2F
SUMMARY:Revisionsnämnden
CREATED:20251029T062927Z
DTSTAMP:20251029T062927Z
URL:https://moln.sofuk.fi/moeteskalender/revisionsnaemnden
LAST-MODIFIED:20251029T062927Z
SEQUENCE:0
X-ACCESS:1
X-HITS:17
X-COLOR:3366cc
X-SHOW-END-TIME:0
END:VEVENT
BEGIN:VEVENT
DTSTART;VALUE=DATE:20260209
DTEND;VALUE=DATE:20260210
UID:A4C56316-54A8-4B4F-9939-AD5F082030E2
SUMMARY:Samkommunstyrelsen
CREATED:20251029T062709Z
DTSTAMP:20251029T062709Z
URL:https://moln.sofuk.fi/moeteskalender/samkommunstyrelsen-5
LAST-MODIFIED:20251029T062709Z
SEQUENCE:0
X-ACCESS:1
X-HITS:12
X-COLOR:3366cc
X-SHOW-END-TIME:0
END:VEVENT
BEGIN:VEVENT
DTSTART;VALUE=DATE:20260217
DTEND;VALUE=DATE:20260218
UID:2807F7AB-95C1-42E0-9A9F-03FBB04EFE10
SUMMARY:Kultursektionen sammanträder
CREATED:20251212T122128Z
DTSTAMP:20251212T122128Z
URL:https://moln.sofuk.fi/moeteskalender/kultursektionen-sammantraeder-2
LAST-MODIFIED:20251212T122128Z
SEQUENCE:0
X-ACCESS:1
X-HITS:8
X-COLOR:3366cc
X-SHOW-END-TIME:0
END:VEVENT
BEGIN:VEVENT
DTSTART;VALUE=DATE:20260302
DTEND;VALUE=DATE:20260303
UID:6F62F230-0BFE-4A65-A1CB-3DC6DB584E2A
SUMMARY:Samkommunstyrelsen
CREATED:20251029T062729Z
DTSTAMP:20251029T062729Z
URL:https://moln.sofuk.fi/moeteskalender/samkommunstyrelsen-6
LAST-MODIFIED:20251029T062729Z
SEQUENCE:0
X-ACCESS:1
X-HITS:12
X-COLOR:3366cc
X-SHOW-END-TIME:0
END:VEVENT
BEGIN:VEVENT
DTSTART;VALUE=DATE:20260310
DTEND;VALUE=DATE:20260311
UID:9C83F894-7065-4472-A0C5-126021D89032
SUMMARY:Kultursektionen sammanträder
CREATED:20251212T122152Z
DTSTAMP:20251212T122152Z
URL:https://moln.sofuk.fi/moeteskalender/kultursektionen-sammantraeder-3
LAST-MODIFIED:20251212T122152Z
SEQUENCE:0
X-ACCESS:1
X-HITS:10
X-COLOR:3366cc
X-SHOW-END-TIME:0
END:VEVENT
BEGIN:VEVENT
DTSTART;VALUE=DATE:20260323
DTEND;VALUE=DATE:20260324
UID:CF6AD1C5-EF0E-42F1-BB0C-846D4B9AE235
SUMMARY:Samkommunstyrelsen
CREATED:20251029T062748Z
DTSTAMP:20251029T062748Z
URL:https://moln.sofuk.fi/moeteskalender/samkommunstyrelsen-7
LAST-MODIFIED:20260121T124214Z
SEQUENCE:7280066
X-ACCESS:1
X-HITS:15
X-COLOR:3366cc
X-SHOW-END-TIME:0
END:VEVENT
BEGIN:VEVENT
DTSTART;VALUE=DATE:20260416
DTEND;VALUE=DATE:20260417
UID:C256B947-3EEC-4846-A3FC-02CA4A9DFE33
SUMMARY:Revisionsnämnden
CREATED:20251029T062944Z
DTSTAMP:20251029T062944Z
URL:https://moln.sofuk.fi/moeteskalender/revisionsnaemnden-2
LAST-MODIFIED:20251029T062944Z
SEQUENCE:0
X-ACCESS:1
X-HITS:9
X-COLOR:3366cc
X-SHOW-END-TIME:0
END:VEVENT
BEGIN:VEVENT
DTSTART;VALUE=DATE:20260421
DTEND;VALUE=DATE:20260422
UID:7071C562-AA8D-4496-89FF-A8F43C7B1285
SUMMARY:Kultursektionen sammanträder
CREATED:20251212T122209Z
DTSTAMP:20251212T122209Z
URL:https://moln.sofuk.fi/moeteskalender/kultursektionen-sammantraeder-4
LAST-MODIFIED:20251212T122209Z
SEQUENCE:0
X-ACCESS:1
X-HITS:12
X-COLOR:3366cc
X-SHOW-END-TIME:0
END:VEVENT
BEGIN:VEVENT
DTSTART;VALUE=DATE:20260504
DTEND;VALUE=DATE:20260505
UID:7DE2FA31-CD9E-4EA8-B1BC-2B45B1BD48FA
SUMMARY:Samkommunstyrelsen
CREATED:20251029T062810Z
DTSTAMP:20251029T062810Z
URL:https://moln.sofuk.fi/moeteskalender/samkommunstyrelsen-8
LAST-MODIFIED:20251029T062810Z
SEQUENCE:0
X-ACCESS:1
X-HITS:8
X-COLOR:3366cc
X-SHOW-END-TIME:0
END:VEVENT
BEGIN:VEVENT
DTSTART;VALUE=DATE:20260505
DTEND;VALUE=DATE:20260506
UID:7C39DC21-9A1F-44D9-8E0B-FBF535CF1FB0
SUMMARY:Revisionsnämnden
CREATED:20251029T062959Z
DTSTAMP:20251029T062959Z
URL:https://moln.sofuk.fi/moeteskalender/revisionsnaemnden-3
LAST-MODIFIED:20251029T062959Z
SEQUENCE:0
X-ACCESS:1
X-HITS:10
X-COLOR:3366cc
X-SHOW-END-TIME:0
END:VEVENT
BEGIN:VEVENT
DTSTART;VALUE=DATE:20260525
DTEND;VALUE=DATE:20260526
UID:538C0041-370C-4A41-A4D5-E006F5859D58
SUMMARY:Samkommunstämma
CREATED:20251029T062848Z
DTSTAMP:20251029T062848Z
URL:https://moln.sofuk.fi/moeteskalender/samkommunstaemma
LAST-MODIFIED:20251029T062848Z
SEQUENCE:0
X-ACCESS:1
X-HITS:7
X-COLOR:3366cc
X-SHOW-END-TIME:0
END:VEVENT
BEGIN:VEVENT
DTSTART;VALUE=DATE:20260603
DTEND;VALUE=DATE:20260604
UID:04CA75DB-DDE0-43CF-B36D-F4BB72A9526D
SUMMARY:Kultursektionen sammanträder
CREATED:20251212T122227Z
DTSTAMP:20251212T122227Z
URL:https://moln.sofuk.fi/moeteskalender/kultursektionen-sammantraeder-5
LAST-MODIFIED:20251212T122227Z
SEQUENCE:0
X-ACCESS:1
X-HITS:6
X-COLOR:3366cc
X-SHOW-END-TIME:0
END:VEVENT
BEGIN:VEVENT
DTSTART;VALUE=DATE:20260608
DTEND;VALUE=DATE:20260609
UID:6531CE0D-0356-4DC5-9EB5-F08FB7D55BED
SUMMARY:Samkommunstyrelsen
CREATED:20251029T062827Z
DTSTAMP:20251029T062827Z
URL:https://moln.sofuk.fi/moeteskalender/samkommunstyrelsen-9
LAST-MODIFIED:20251029T062827Z
SEQUENCE:0
X-ACCESS:1
X-HITS:6
X-COLOR:3366cc
X-SHOW-END-TIME:0
END:VEVENT
BEGIN:VEVENT
DTSTART;VALUE=DATE:20261123
DTEND;VALUE=DATE:20261124
UID:0CEEFFA0-17F4-42F2-A4EB-7F6D7E4E90F5
SUMMARY:Samkommunstämma
CREATED:20251029T062905Z
DTSTAMP:20251029T062905Z
URL:https://moln.sofuk.fi/moeteskalender/samkommunstaemma-2
LAST-MODIFIED:20251029T062905Z
SEQUENCE:0
X-ACCESS:1
X-HITS:6
X-COLOR:3366cc
X-SHOW-END-TIME:0
END:VEVENT
END:VCALENDAR